BEGIN:VCALENDAR
VERSION:2.0
PRODID:-//Gulf Stream Brewing Company&reg; - ECPv6.15.20//NONSGML v1.0//EN
CALSCALE:GREGORIAN
METHOD:PUBLISH
X-ORIGINAL-URL:https://gulfstreambeer.com
X-WR-CALDESC:Events for Gulf Stream Brewing Company&reg;
REFRESH-INTERVAL;VALUE=DURATION:PT1H
X-Robots-Tag:noindex
X-PUBLISHED-TTL:PT1H
BEGIN:VTIMEZONE
TZID:America/New_York
BEGIN:DAYLIGHT
TZOFFSETFROM:-0500
TZOFFSETTO:-0400
TZNAME:EDT
DTSTART:20240310T070000
END:DAYLIGHT
BEGIN:STANDARD
TZOFFSETFROM:-0400
TZOFFSETTO:-0500
TZNAME:EST
DTSTART:20241103T060000
END:STANDARD
BEGIN:DAYLIGHT
TZOFFSETFROM:-0500
TZOFFSETTO:-0400
TZNAME:EDT
DTSTART:20250309T070000
END:DAYLIGHT
BEGIN:STANDARD
TZOFFSETFROM:-0400
TZOFFSETTO:-0500
TZNAME:EST
DTSTART:20251102T060000
END:STANDARD
BEGIN:DAYLIGHT
TZOFFSETFROM:-0500
TZOFFSETTO:-0400
TZNAME:EDT
DTSTART:20260308T070000
END:DAYLIGHT
BEGIN:STANDARD
TZOFFSETFROM:-0400
TZOFFSETTO:-0500
TZNAME:EST
DTSTART:20261101T060000
END:STANDARD
END:VTIMEZONE
BEGIN:VEVENT
DTSTART;VALUE=DATE:20251001
DTEND;VALUE=DATE:20251101
DTSTAMP:20260425T083425
CREATED:20251009T153440Z
LAST-MODIFIED:20251009T153440Z
UID:5933-1759276800-1761955199@gulfstreambeer.com
SUMMARY:Breast Cancer Awareness Month - Drink Pink!
DESCRIPTION:During the month of October\, Gulf Stream Brewing Co. is partnering with Gilda’s Club South Florida to raise funds for women in our community that are fighting or have fought breast cancer. Gulf Stream will donate 10% of sales of all of our “pink” beers sold in October back to Gilda’s Club (Lemonade Shandy\, Cloud 9 Watermelon Hibiscus Lager and Pinky Drinky). \nStop by the taproom and drink pink!
URL:https://gulfstreambeer.com/event/breast-cancer-awareness-month-drink-pink/
LOCATION:Gulf Stream Brewery\, 1105 NE 13TH ST.\, FORT LAUDERDALE\, FL\, 33304\, United States
ATTACH;FMTTYPE=image/png:https://gulfstreambeer.com/wp-content/uploads/2025/10/Pink-and-Black-Modern-breast-Cancer-Awareness-Instagram-Post-.png
END:VEVENT
BEGIN:VEVENT
DTSTART;TZID=America/New_York:20251020T150000
DTEND;TZID=America/New_York:20251020T230000
DTSTAMP:20260425T083425
CREATED:20250102T214639Z
LAST-MODIFIED:20250831T193216Z
UID:5338-1760972400-1761001200@gulfstreambeer.com
SUMMARY:In Da Business Mondays
DESCRIPTION:Calling all our hospitality industry folks! We know how hard you work at your bar\, brewery\, restaurant or hotel! Join us every Monday @ Gulf Stream Brewery for a killer ITB discount. Show your credentials (apron\, pay stub\, name tag\, uniform\, etc.) for 50% off draft beers and $10 (select) pizzas from Pizzeria Magaddino. An incredible deal for incredible people.
URL:https://gulfstreambeer.com/event/in-da-business-mondays-47/
LOCATION:Gulf Stream Brewery\, 1105 NE 13TH ST.\, FORT LAUDERDALE\, FL\, 33304\, United States
ATTACH;FMTTYPE=image/png:https://gulfstreambeer.com/wp-content/uploads/2025/01/ITB-Mondays-002.png
END:VEVENT
END:VCALENDAR