BEGIN:VCALENDAR
VERSION:2.0
PRODID:-//Gulf Stream Brewing Company&reg; - ECPv6.15.20//NONSGML v1.0//EN
CALSCALE:GREGORIAN
METHOD:PUBLISH
X-WR-CALNAME:Gulf Stream Brewing Company&reg;
X-ORIGINAL-URL:https://gulfstreambeer.com
X-WR-CALDESC:Events for Gulf Stream Brewing Company&reg;
REFRESH-INTERVAL;VALUE=DURATION:PT1H
X-Robots-Tag:noindex
X-PUBLISHED-TTL:PT1H
BEGIN:VTIMEZONE
TZID:America/New_York
BEGIN:DAYLIGHT
TZOFFSETFROM:-0500
TZOFFSETTO:-0400
TZNAME:EDT
DTSTART:20240310T070000
END:DAYLIGHT
BEGIN:STANDARD
TZOFFSETFROM:-0400
TZOFFSETTO:-0500
TZNAME:EST
DTSTART:20241103T060000
END:STANDARD
BEGIN:DAYLIGHT
TZOFFSETFROM:-0500
TZOFFSETTO:-0400
TZNAME:EDT
DTSTART:20250309T070000
END:DAYLIGHT
BEGIN:STANDARD
TZOFFSETFROM:-0400
TZOFFSETTO:-0500
TZNAME:EST
DTSTART:20251102T060000
END:STANDARD
BEGIN:DAYLIGHT
TZOFFSETFROM:-0500
TZOFFSETTO:-0400
TZNAME:EDT
DTSTART:20260308T070000
END:DAYLIGHT
BEGIN:STANDARD
TZOFFSETFROM:-0400
TZOFFSETTO:-0500
TZNAME:EST
DTSTART:20261101T060000
END:STANDARD
END:VTIMEZONE
BEGIN:VEVENT
DTSTART;TZID=America/New_York:20251213T150000
DTEND;TZID=America/New_York:20251213T190000
DTSTAMP:20260422T053043
CREATED:20251130T184317Z
LAST-MODIFIED:20251130T184317Z
UID:6131-1765638000-1765652400@gulfstreambeer.com
SUMMARY:Merry Grinchmas Toy Drive and Pet Photo Night
DESCRIPTION:Merry Grinchmas is BACK at Gulf Stream Brewery!\n\nMake the Grinch’s heart grow three sizes larger this holiday by supporting local pet rescues and shelters. Bring an unwrapped toy for Women in Distress’ Annual Toy Drive or an unwrapped dog or cat toy (no rawhide) for Broward County Animal Care\, and you’ll receive a free festive photo with The Grinch!\n\nWe will also be releasing our seasonal Resting Grinch Face fruited sour.\n\nPhotos with The Grinch – Bring your pets (and your peeps!) for a festive keepsake\nSupport Dog Rescue – Every dollar raised helps save pups in need\nRaffle Prizes – Win great gifts and goodies\nBest Dressed Prizes: Best Ugly Sweater\, Best Dressed Pack (for those who run in a pack)\, Best Holiday Spirit & Best Grinch\n\nBring your furry friends\, grab a pint\, and help make a difference this holiday season.
URL:https://gulfstreambeer.com/event/merry-grinchmas-toy-drive-and-pet-photo-night/
LOCATION:FL
ATTACH;FMTTYPE=image/png:https://gulfstreambeer.com/wp-content/uploads/2025/11/TOY-DRIVE-POST-scaled-e1764528159699.png
END:VEVENT
END:VCALENDAR