BEGIN:VCALENDAR
VERSION:2.0
PRODID:-//Gulf Stream Brewing Company&reg; - ECPv6.15.20//NONSGML v1.0//EN
CALSCALE:GREGORIAN
METHOD:PUBLISH
X-ORIGINAL-URL:https://gulfstreambeer.com
X-WR-CALDESC:Events for Gulf Stream Brewing Company&reg;
REFRESH-INTERVAL;VALUE=DURATION:PT1H
X-Robots-Tag:noindex
X-PUBLISHED-TTL:PT1H
BEGIN:VTIMEZONE
TZID:America/New_York
BEGIN:DAYLIGHT
TZOFFSETFROM:-0500
TZOFFSETTO:-0400
TZNAME:EDT
DTSTART:20250309T070000
END:DAYLIGHT
BEGIN:STANDARD
TZOFFSETFROM:-0400
TZOFFSETTO:-0500
TZNAME:EST
DTSTART:20251102T060000
END:STANDARD
BEGIN:DAYLIGHT
TZOFFSETFROM:-0500
TZOFFSETTO:-0400
TZNAME:EDT
DTSTART:20260308T070000
END:DAYLIGHT
BEGIN:STANDARD
TZOFFSETFROM:-0400
TZOFFSETTO:-0500
TZNAME:EST
DTSTART:20261101T060000
END:STANDARD
BEGIN:DAYLIGHT
TZOFFSETFROM:-0500
TZOFFSETTO:-0400
TZNAME:EDT
DTSTART:20270314T070000
END:DAYLIGHT
BEGIN:STANDARD
TZOFFSETFROM:-0400
TZOFFSETTO:-0500
TZNAME:EST
DTSTART:20271107T060000
END:STANDARD
END:VTIMEZONE
BEGIN:VEVENT
DTSTART;TZID=America/New_York:20260504T180000
DTEND;TZID=America/New_York:20260504T230000
DTSTAMP:20260421T152336
CREATED:20260417T222635Z
LAST-MODIFIED:20260417T222734Z
UID:6350-1777917600-1777935600@gulfstreambeer.com
SUMMARY:May The 4th be With Brew
DESCRIPTION:There is a disturbance in the Force… and it’s coming straight to the taproom on Monday\, May the 4th. \nJoin us for a night of galactic chaos featuring: \n• A brand-new beer drop from another galaxy• All-species Princess Leia Costume Contest• Galactic inspired cocktails• Sabacc Tournament for the bold and slightly reckless \nWhether you’re a Jedi\, Sith\, or just here for the drinks—this is the party you’re looking for. \nMay the 4th be with Brew.
URL:https://gulfstreambeer.com/event/may-the-4th-be-with-brew/
LOCATION:Gulf Stream Brewery\, 1105 NE 13TH ST.\, FORT LAUDERDALE\, FL\, 33304\, United States
ATTACH;FMTTYPE=image/png:https://gulfstreambeer.com/wp-content/uploads/2026/04/POST-scaled.png
END:VEVENT
BEGIN:VEVENT
DTSTART;TZID=America/New_York:20260505T183000
DTEND;TZID=America/New_York:20260505T223000
DTSTAMP:20260421T152336
CREATED:20251124T193913Z
LAST-MODIFIED:20260421T170558Z
UID:6080-1778005800-1778020200@gulfstreambeer.com
SUMMARY:D&D Night
DESCRIPTION:Grab a beer and dive into epic adventures led by TPK Miami. $10 to play\, but the fun is priceless!
URL:https://gulfstreambeer.com/event/dd-night-18/
LOCATION:Gulf Stream Brewery\, 1105 NE 13TH ST.\, FORT LAUDERDALE\, FL\, 33304\, United States
ATTACH;FMTTYPE=image/png:https://gulfstreambeer.com/wp-content/uploads/2025/11/DD-Graphic-scaled-e1764530168404.png
END:VEVENT
BEGIN:VEVENT
DTSTART;TZID=America/New_York:20260506T193000
DTEND;TZID=America/New_York:20260506T213000
DTSTAMP:20260421T152336
CREATED:20251124T193629Z
LAST-MODIFIED:20260319T014504Z
UID:6028-1778095800-1778103000@gulfstreambeer.com
SUMMARY:Trivia Night
DESCRIPTION:Join us every Wednesday for trivia in the taproom! Bring friends and your competitive spirit.
URL:https://gulfstreambeer.com/event/trivia-night-173/
LOCATION:Gulf Stream Brewery\, 1105 NE 13TH ST.\, FORT LAUDERDALE\, FL\, 33304\, United States
ATTACH;FMTTYPE=image/png:https://gulfstreambeer.com/wp-content/uploads/2023/12/NOTEBOOK-e1725847636541.png
END:VEVENT
BEGIN:VEVENT
DTSTART;TZID=America/New_York:20260509T120000
DTEND;TZID=America/New_York:20260509T130000
DTSTAMP:20260421T152336
CREATED:20260421T162426Z
LAST-MODIFIED:20260421T162426Z
UID:6354-1778328000-1778331600@gulfstreambeer.com
SUMMARY:Mermaid Storytime
DESCRIPTION:Make a splash with us! \nJoin us at Gulf Stream Brewing on May 9th from 12–1 PM for Mermaid Storytime—a magical\, family-friendly escape you didn’t know you needed. \nA real-life mermaid will be reading enchanting stories for the little ones while we serve up spellbinding cocktails for adults and fun\, magical mocktails for the kids. \nIt’s free\, it’s whimsical\, and yes… it’s probably the closest you’ll get to hanging out under the sea without getting wet. \nBring the kiddos\, grab a drink\, and let the magic begin.
URL:https://gulfstreambeer.com/event/mermaid-storytime/
LOCATION:Gulf Stream Brewery\, 1105 NE 13TH ST.\, FORT LAUDERDALE\, FL\, 33304\, United States
ATTACH;FMTTYPE=image/jpeg:https://gulfstreambeer.com/wp-content/uploads/2026/04/IMG-20260414-WA0000.jpg
END:VEVENT
BEGIN:VEVENT
DTSTART;TZID=America/New_York:20260511T150000
DTEND;TZID=America/New_York:20260511T230000
DTSTAMP:20260421T152336
CREATED:20251124T193358Z
LAST-MODIFIED:20260421T170453Z
UID:5977-1778511600-1778540400@gulfstreambeer.com
SUMMARY:In Da Business Mondays
DESCRIPTION:Calling all our hospitality industry folks! We know how hard you work at your bar\, brewery\, restaurant or hotel! Join us every Monday @ Gulf Stream Brewery for a killer ITB discount. Show your credentials (apron\, pay stub\, name tag\, uniform\, etc.) for 50% off draft beers and $10 (select) pizzas from Pizzeria Magaddino. An incredible deal for incredible people.
URL:https://gulfstreambeer.com/event/in-da-business-mondays-76/
LOCATION:Gulf Stream Brewery\, 1105 NE 13TH ST.\, FORT LAUDERDALE\, FL\, 33304\, United States
ATTACH;FMTTYPE=image/png:https://gulfstreambeer.com/wp-content/uploads/2025/01/ITB-Mondays-002.png
END:VEVENT
BEGIN:VEVENT
DTSTART;TZID=America/New_York:20260512T183000
DTEND;TZID=America/New_York:20260512T223000
DTSTAMP:20260421T152336
CREATED:20251124T193913Z
LAST-MODIFIED:20260421T170722Z
UID:6081-1778610600-1778625000@gulfstreambeer.com
SUMMARY:D&D Night
DESCRIPTION:Grab a beer and dive into epic adventures led by TPK Miami. $10 to play\, but the fun is priceless!
URL:https://gulfstreambeer.com/event/dd-night-19/
LOCATION:Gulf Stream Brewery\, 1105 NE 13TH ST.\, FORT LAUDERDALE\, FL\, 33304\, United States
ATTACH;FMTTYPE=image/png:https://gulfstreambeer.com/wp-content/uploads/2025/11/DD-Graphic-scaled-e1764530168404.png
END:VEVENT
BEGIN:VEVENT
DTSTART;TZID=America/New_York:20260513T193000
DTEND;TZID=America/New_York:20260513T213000
DTSTAMP:20260421T152336
CREATED:20251124T193642Z
LAST-MODIFIED:20260319T014343Z
UID:6029-1778700600-1778707800@gulfstreambeer.com
SUMMARY:Trivia Night
DESCRIPTION:Join us every Wednesday for trivia in the taproom! Bring friends and your competitive spirit.
URL:https://gulfstreambeer.com/event/trivia-night-174/
LOCATION:Gulf Stream Brewery\, 1105 NE 13TH ST.\, FORT LAUDERDALE\, FL\, 33304\, United States
ATTACH;FMTTYPE=image/png:https://gulfstreambeer.com/wp-content/uploads/2023/12/NOTEBOOK-e1725847636541.png
END:VEVENT
BEGIN:VEVENT
DTSTART;TZID=America/New_York:20260517T130000
DTEND;TZID=America/New_York:20260517T160000
DTSTAMP:20260421T152336
CREATED:20260331T221244Z
LAST-MODIFIED:20260331T221244Z
UID:6340-1779022800-1779033600@gulfstreambeer.com
SUMMARY:The Boozy Book Fair
DESCRIPTION:Babes & Brews Book Club Presents:  The Boozy Book Fair. \nCalling all the girlies who love a good book and a good brew. \nJoin us at the taproom for a dreamy day o books\, beers\, and supporting amazing woman-owned small businesses. Whether you’re a romance reader\, fantasy lover\, or just here for the vibes – this is your kind of fair. \n• Shop curated bookish vendors \n• Sip local craft brew and cocktails \n• Swap a book and discover your next favorite read \n• Connect with fellow book-loving babes \nGrab your besties and make it a day – because nothing pairs better than books & brews.
URL:https://gulfstreambeer.com/event/the-boozy-book-fair/
LOCATION:Gulf Stream Brewery\, 1105 NE 13TH ST.\, FORT LAUDERDALE\, FL\, 33304\, United States
ATTACH;FMTTYPE=image/jpeg:https://gulfstreambeer.com/wp-content/uploads/2026/03/4B800C27-0607-4372-A30B-9F650CFC9F7E-scaled.jpeg
END:VEVENT
BEGIN:VEVENT
DTSTART;TZID=America/New_York:20260518T150000
DTEND;TZID=America/New_York:20260518T230000
DTSTAMP:20260421T152336
CREATED:20251124T193358Z
LAST-MODIFIED:20260421T170807Z
UID:5978-1779116400-1779145200@gulfstreambeer.com
SUMMARY:In Da Business Mondays
DESCRIPTION:Calling all our hospitality industry folks! We know how hard you work at your bar\, brewery\, restaurant or hotel! Join us every Monday @ Gulf Stream Brewery for a killer ITB discount. Show your credentials (apron\, pay stub\, name tag\, uniform\, etc.) for 50% off draft beers and $10 (select) pizzas from Pizzeria Magaddino. An incredible deal for incredible people.
URL:https://gulfstreambeer.com/event/in-da-business-mondays-77/
LOCATION:Gulf Stream Brewery\, 1105 NE 13TH ST.\, FORT LAUDERDALE\, FL\, 33304\, United States
ATTACH;FMTTYPE=image/png:https://gulfstreambeer.com/wp-content/uploads/2025/01/ITB-Mondays-002.png
END:VEVENT
BEGIN:VEVENT
DTSTART;TZID=America/New_York:20260519T183000
DTEND;TZID=America/New_York:20260519T223000
DTSTAMP:20260421T152336
CREATED:20251124T193913Z
LAST-MODIFIED:20260421T170858Z
UID:6082-1779215400-1779229800@gulfstreambeer.com
SUMMARY:D&D Night
DESCRIPTION:Grab a beer and dive into epic adventures led by TPK Miami. $10 to play\, but the fun is priceless!
URL:https://gulfstreambeer.com/event/dd-night-20/
LOCATION:Gulf Stream Brewery\, 1105 NE 13TH ST.\, FORT LAUDERDALE\, FL\, 33304\, United States
ATTACH;FMTTYPE=image/png:https://gulfstreambeer.com/wp-content/uploads/2025/11/DD-Graphic-scaled-e1764530168404.png
END:VEVENT
BEGIN:VEVENT
DTSTART;TZID=America/New_York:20260520T193000
DTEND;TZID=America/New_York:20260520T213000
DTSTAMP:20260421T152336
CREATED:20251124T193642Z
LAST-MODIFIED:20260319T014614Z
UID:6030-1779305400-1779312600@gulfstreambeer.com
SUMMARY:Trivia Night
DESCRIPTION:Join us every Wednesday for trivia in the taproom! Bring friends and your competitive spirit.
URL:https://gulfstreambeer.com/event/trivia-night-175/
LOCATION:Gulf Stream Brewery\, 1105 NE 13TH ST.\, FORT LAUDERDALE\, FL\, 33304\, United States
ATTACH;FMTTYPE=image/png:https://gulfstreambeer.com/wp-content/uploads/2023/12/NOTEBOOK-e1725847636541.png
END:VEVENT
BEGIN:VEVENT
DTSTART;TZID=America/New_York:20260525T150000
DTEND;TZID=America/New_York:20260525T230000
DTSTAMP:20260421T152336
CREATED:20251124T193412Z
LAST-MODIFIED:20260421T170939Z
UID:5979-1779721200-1779750000@gulfstreambeer.com
SUMMARY:In Da Business Mondays
DESCRIPTION:Calling all our hospitality industry folks! We know how hard you work at your bar\, brewery\, restaurant or hotel! Join us every Monday @ Gulf Stream Brewery for a killer ITB discount. Show your credentials (apron\, pay stub\, name tag\, uniform\, etc.) for 50% off draft beers and $10 (select) pizzas from Pizzeria Magaddino. An incredible deal for incredible people.
URL:https://gulfstreambeer.com/event/in-da-business-mondays-78/
LOCATION:Gulf Stream Brewery\, 1105 NE 13TH ST.\, FORT LAUDERDALE\, FL\, 33304\, United States
ATTACH;FMTTYPE=image/png:https://gulfstreambeer.com/wp-content/uploads/2025/01/ITB-Mondays-002.png
END:VEVENT
BEGIN:VEVENT
DTSTART;TZID=America/New_York:20260526T183000
DTEND;TZID=America/New_York:20260526T223000
DTSTAMP:20260421T152336
CREATED:20251124T193914Z
LAST-MODIFIED:20260421T171029Z
UID:6083-1779820200-1779834600@gulfstreambeer.com
SUMMARY:D&D Night
DESCRIPTION:Grab a beer and dive into epic adventures led by TPK Miami. $10 to play\, but the fun is priceless!
URL:https://gulfstreambeer.com/event/dd-night-21/
LOCATION:Gulf Stream Brewery\, 1105 NE 13TH ST.\, FORT LAUDERDALE\, FL\, 33304\, United States
ATTACH;FMTTYPE=image/png:https://gulfstreambeer.com/wp-content/uploads/2025/11/DD-Graphic-scaled-e1764530168404.png
END:VEVENT
BEGIN:VEVENT
DTSTART;TZID=America/New_York:20260527T193000
DTEND;TZID=America/New_York:20260527T213000
DTSTAMP:20260421T152336
CREATED:20251124T193643Z
LAST-MODIFIED:20260319T015028Z
UID:6031-1779910200-1779917400@gulfstreambeer.com
SUMMARY:Trivia Night
DESCRIPTION:Join us every Wednesday for trivia in the taproom! Bring friends and your competitive spirit.
URL:https://gulfstreambeer.com/event/trivia-night-176/
LOCATION:Gulf Stream Brewery\, 1105 NE 13TH ST.\, FORT LAUDERDALE\, FL\, 33304\, United States
ATTACH;FMTTYPE=image/png:https://gulfstreambeer.com/wp-content/uploads/2023/12/NOTEBOOK-e1725847636541.png
END:VEVENT
BEGIN:VEVENT
DTSTART;TZID=America/New_York:20260601T150000
DTEND;TZID=America/New_York:20260601T230000
DTSTAMP:20260421T152336
CREATED:20251124T193412Z
LAST-MODIFIED:20260421T171106Z
UID:5980-1780326000-1780354800@gulfstreambeer.com
SUMMARY:In Da Business Mondays
DESCRIPTION:Calling all our hospitality industry folks! We know how hard you work at your bar\, brewery\, restaurant or hotel! Join us every Monday @ Gulf Stream Brewery for a killer ITB discount. Show your credentials (apron\, pay stub\, name tag\, uniform\, etc.) for 50% off draft beers and $10 (select) pizzas from Pizzeria Magaddino. An incredible deal for incredible people.
URL:https://gulfstreambeer.com/event/in-da-business-mondays-79/
LOCATION:Gulf Stream Brewery\, 1105 NE 13TH ST.\, FORT LAUDERDALE\, FL\, 33304\, United States
ATTACH;FMTTYPE=image/png:https://gulfstreambeer.com/wp-content/uploads/2025/01/ITB-Mondays-002.png
END:VEVENT
BEGIN:VEVENT
DTSTART;TZID=America/New_York:20260602T183000
DTEND;TZID=America/New_York:20260602T223000
DTSTAMP:20260421T152336
CREATED:20251124T193928Z
LAST-MODIFIED:20260421T171229Z
UID:6084-1780425000-1780439400@gulfstreambeer.com
SUMMARY:D&D Night
DESCRIPTION:Grab a beer and dive into epic adventures led by TPK Miami. $10 to play\, but the fun is priceless!
URL:https://gulfstreambeer.com/event/dd-night-22/
LOCATION:Gulf Stream Brewery\, 1105 NE 13TH ST.\, FORT LAUDERDALE\, FL\, 33304\, United States
ATTACH;FMTTYPE=image/png:https://gulfstreambeer.com/wp-content/uploads/2025/11/DD-Graphic-scaled-e1764530168404.png
END:VEVENT
BEGIN:VEVENT
DTSTART;TZID=America/New_York:20260603T193000
DTEND;TZID=America/New_York:20260603T213000
DTSTAMP:20260421T152336
CREATED:20251124T193643Z
LAST-MODIFIED:20260421T171343Z
UID:6032-1780515000-1780522200@gulfstreambeer.com
SUMMARY:Trivia Night
DESCRIPTION:Join us every Wednesday for trivia in the taproom! Bring friends and your competitive spirit.
URL:https://gulfstreambeer.com/event/trivia-night-177/
LOCATION:Gulf Stream Brewery\, 1105 NE 13TH ST.\, FORT LAUDERDALE\, FL\, 33304\, United States
ATTACH;FMTTYPE=image/png:https://gulfstreambeer.com/wp-content/uploads/2023/12/NOTEBOOK-e1725847636541.png
END:VEVENT
BEGIN:VEVENT
DTSTART;TZID=America/New_York:20260608T150000
DTEND;TZID=America/New_York:20260608T230000
DTSTAMP:20260421T152336
CREATED:20251124T193413Z
LAST-MODIFIED:20251124T193413Z
UID:5981-1780930800-1780959600@gulfstreambeer.com
SUMMARY:In Da Business Mondays
DESCRIPTION:Calling all our hospitality industry folks! We know how hard you work at your bar\, brewery\, restaurant or hotel! Join us every Monday @ Gulf Stream Brewery for a killer ITB discount. Show your credentials (apron\, pay stub\, name tag\, uniform\, etc.) for 50% off draft beers and $10 (select) pizzas from Pizzeria Magaddino. An incredible deal for incredible people.
URL:https://gulfstreambeer.com/event/in-da-business-mondays-80/
LOCATION:Gulf Stream Brewery\, 1105 NE 13TH ST.\, FORT LAUDERDALE\, FL\, 33304\, United States
END:VEVENT
BEGIN:VEVENT
DTSTART;TZID=America/New_York:20260609T183000
DTEND;TZID=America/New_York:20260609T223000
DTSTAMP:20260421T152336
CREATED:20251124T193928Z
LAST-MODIFIED:20251124T193928Z
UID:6085-1781029800-1781044200@gulfstreambeer.com
SUMMARY:D&D Night
DESCRIPTION:Grab a beer and dive into epic adventures led by TPK Miami. $10 to play\, but the fun is priceless!
URL:https://gulfstreambeer.com/event/dd-night-23/
LOCATION:Gulf Stream Brewery\, 1105 NE 13TH ST.\, FORT LAUDERDALE\, FL\, 33304\, United States
END:VEVENT
BEGIN:VEVENT
DTSTART;TZID=America/New_York:20260610T193000
DTEND;TZID=America/New_York:20260610T213000
DTSTAMP:20260421T152336
CREATED:20251124T193644Z
LAST-MODIFIED:20251124T193644Z
UID:6033-1781119800-1781127000@gulfstreambeer.com
SUMMARY:Trivia Night
DESCRIPTION:Join us every Wednesday for trivia in the taproom! Bring friends and your competitive spirit.
URL:https://gulfstreambeer.com/event/trivia-night-178/
LOCATION:Gulf Stream Brewery\, 1105 NE 13TH ST.\, FORT LAUDERDALE\, FL\, 33304\, United States
END:VEVENT
BEGIN:VEVENT
DTSTART;TZID=America/New_York:20260615T150000
DTEND;TZID=America/New_York:20260615T230000
DTSTAMP:20260421T152336
CREATED:20251124T193413Z
LAST-MODIFIED:20251124T193413Z
UID:5982-1781535600-1781564400@gulfstreambeer.com
SUMMARY:In Da Business Mondays
DESCRIPTION:Calling all our hospitality industry folks! We know how hard you work at your bar\, brewery\, restaurant or hotel! Join us every Monday @ Gulf Stream Brewery for a killer ITB discount. Show your credentials (apron\, pay stub\, name tag\, uniform\, etc.) for 50% off draft beers and $10 (select) pizzas from Pizzeria Magaddino. An incredible deal for incredible people.
URL:https://gulfstreambeer.com/event/in-da-business-mondays-81/
LOCATION:Gulf Stream Brewery\, 1105 NE 13TH ST.\, FORT LAUDERDALE\, FL\, 33304\, United States
END:VEVENT
BEGIN:VEVENT
DTSTART;TZID=America/New_York:20260616T183000
DTEND;TZID=America/New_York:20260616T223000
DTSTAMP:20260421T152336
CREATED:20251124T193928Z
LAST-MODIFIED:20251124T193928Z
UID:6086-1781634600-1781649000@gulfstreambeer.com
SUMMARY:D&D Night
DESCRIPTION:Grab a beer and dive into epic adventures led by TPK Miami. $10 to play\, but the fun is priceless!
URL:https://gulfstreambeer.com/event/dd-night-24/
LOCATION:Gulf Stream Brewery\, 1105 NE 13TH ST.\, FORT LAUDERDALE\, FL\, 33304\, United States
END:VEVENT
BEGIN:VEVENT
DTSTART;TZID=America/New_York:20260617T193000
DTEND;TZID=America/New_York:20260617T213000
DTSTAMP:20260421T152336
CREATED:20251124T193657Z
LAST-MODIFIED:20251124T193657Z
UID:6034-1781724600-1781731800@gulfstreambeer.com
SUMMARY:Trivia Night
DESCRIPTION:Join us every Wednesday for trivia in the taproom! Bring friends and your competitive spirit.
URL:https://gulfstreambeer.com/event/trivia-night-179/
LOCATION:Gulf Stream Brewery\, 1105 NE 13TH ST.\, FORT LAUDERDALE\, FL\, 33304\, United States
END:VEVENT
BEGIN:VEVENT
DTSTART;TZID=America/New_York:20260622T150000
DTEND;TZID=America/New_York:20260622T230000
DTSTAMP:20260421T152336
CREATED:20251124T193414Z
LAST-MODIFIED:20251124T193414Z
UID:5983-1782140400-1782169200@gulfstreambeer.com
SUMMARY:In Da Business Mondays
DESCRIPTION:Calling all our hospitality industry folks! We know how hard you work at your bar\, brewery\, restaurant or hotel! Join us every Monday @ Gulf Stream Brewery for a killer ITB discount. Show your credentials (apron\, pay stub\, name tag\, uniform\, etc.) for 50% off draft beers and $10 (select) pizzas from Pizzeria Magaddino. An incredible deal for incredible people.
URL:https://gulfstreambeer.com/event/in-da-business-mondays-82/
LOCATION:Gulf Stream Brewery\, 1105 NE 13TH ST.\, FORT LAUDERDALE\, FL\, 33304\, United States
END:VEVENT
BEGIN:VEVENT
DTSTART;TZID=America/New_York:20260623T183000
DTEND;TZID=America/New_York:20260623T223000
DTSTAMP:20260421T152336
CREATED:20251124T193929Z
LAST-MODIFIED:20251124T193929Z
UID:6087-1782239400-1782253800@gulfstreambeer.com
SUMMARY:D&D Night
DESCRIPTION:Grab a beer and dive into epic adventures led by TPK Miami. $10 to play\, but the fun is priceless!
URL:https://gulfstreambeer.com/event/dd-night-25/
LOCATION:Gulf Stream Brewery\, 1105 NE 13TH ST.\, FORT LAUDERDALE\, FL\, 33304\, United States
END:VEVENT
BEGIN:VEVENT
DTSTART;TZID=America/New_York:20260624T193000
DTEND;TZID=America/New_York:20260624T213000
DTSTAMP:20260421T152336
CREATED:20251124T193658Z
LAST-MODIFIED:20251124T193658Z
UID:6035-1782329400-1782336600@gulfstreambeer.com
SUMMARY:Trivia Night
DESCRIPTION:Join us every Wednesday for trivia in the taproom! Bring friends and your competitive spirit.
URL:https://gulfstreambeer.com/event/trivia-night-180/
LOCATION:Gulf Stream Brewery\, 1105 NE 13TH ST.\, FORT LAUDERDALE\, FL\, 33304\, United States
END:VEVENT
BEGIN:VEVENT
DTSTART;TZID=America/New_York:20260629T150000
DTEND;TZID=America/New_York:20260629T230000
DTSTAMP:20260421T152336
CREATED:20251124T193427Z
LAST-MODIFIED:20251124T193427Z
UID:5984-1782745200-1782774000@gulfstreambeer.com
SUMMARY:In Da Business Mondays
DESCRIPTION:Calling all our hospitality industry folks! We know how hard you work at your bar\, brewery\, restaurant or hotel! Join us every Monday @ Gulf Stream Brewery for a killer ITB discount. Show your credentials (apron\, pay stub\, name tag\, uniform\, etc.) for 50% off draft beers and $10 (select) pizzas from Pizzeria Magaddino. An incredible deal for incredible people.
URL:https://gulfstreambeer.com/event/in-da-business-mondays-83/
LOCATION:Gulf Stream Brewery\, 1105 NE 13TH ST.\, FORT LAUDERDALE\, FL\, 33304\, United States
END:VEVENT
BEGIN:VEVENT
DTSTART;TZID=America/New_York:20260630T183000
DTEND;TZID=America/New_York:20260630T223000
DTSTAMP:20260421T152336
CREATED:20251124T193929Z
LAST-MODIFIED:20251124T193929Z
UID:6088-1782844200-1782858600@gulfstreambeer.com
SUMMARY:D&D Night
DESCRIPTION:Grab a beer and dive into epic adventures led by TPK Miami. $10 to play\, but the fun is priceless!
URL:https://gulfstreambeer.com/event/dd-night-26/
LOCATION:Gulf Stream Brewery\, 1105 NE 13TH ST.\, FORT LAUDERDALE\, FL\, 33304\, United States
END:VEVENT
BEGIN:VEVENT
DTSTART;TZID=America/New_York:20260701T193000
DTEND;TZID=America/New_York:20260701T213000
DTSTAMP:20260421T152336
CREATED:20251124T193658Z
LAST-MODIFIED:20251124T193658Z
UID:6036-1782934200-1782941400@gulfstreambeer.com
SUMMARY:Trivia Night
DESCRIPTION:Join us every Wednesday for trivia in the taproom! Bring friends and your competitive spirit.
URL:https://gulfstreambeer.com/event/trivia-night-181/
LOCATION:Gulf Stream Brewery\, 1105 NE 13TH ST.\, FORT LAUDERDALE\, FL\, 33304\, United States
END:VEVENT
BEGIN:VEVENT
DTSTART;TZID=America/New_York:20260706T150000
DTEND;TZID=America/New_York:20260706T230000
DTSTAMP:20260421T152336
CREATED:20251124T193428Z
LAST-MODIFIED:20251124T193428Z
UID:5985-1783350000-1783378800@gulfstreambeer.com
SUMMARY:In Da Business Mondays
DESCRIPTION:Calling all our hospitality industry folks! We know how hard you work at your bar\, brewery\, restaurant or hotel! Join us every Monday @ Gulf Stream Brewery for a killer ITB discount. Show your credentials (apron\, pay stub\, name tag\, uniform\, etc.) for 50% off draft beers and $10 (select) pizzas from Pizzeria Magaddino. An incredible deal for incredible people.
URL:https://gulfstreambeer.com/event/in-da-business-mondays-84/
LOCATION:Gulf Stream Brewery\, 1105 NE 13TH ST.\, FORT LAUDERDALE\, FL\, 33304\, United States
END:VEVENT
END:VCALENDAR